BEGIN:VCALENDAR
PRODID:-//Microsoft Corporation//Outlook 14.0 MIMEDIR//EN
VERSION:2.0
METHOD:REQUEST
X-MS-OLK-FORCEINSPECTOROPEN:TRUE
BEGIN:VTIMEZONE
TZID:Romance Standard Time
BEGIN:STANDARD
DTSTART:16011028T030000
RRULE:FREQ=YEARLY;BYDAY=-1SU;BYMONTH=10
TZOFFSETFROM:+0200
TZOFFSETTO:+0100
END:STANDARD
BEGIN:DAYLIGHT
DTSTART:16010325T020000
RRULE:FREQ=YEARLY;BYDAY=-1SU;BYMONTH=3
TZOFFSETFROM:+0100
TZOFFSETTO:+0200
END:DAYLIGHT
END:VTIMEZONE
BEGIN:VEVENT
ATTENDEE;CN=misz.ru@gmail.com;RSVP=TRUE:mailto:misz.ru@gmail.com
CLASS:PUBLIC
CREATED:20161105T212105Z
DESCRIPTION:\n
DTEND;TZID="Romance Standard Time":20161109T200000
DTSTAMP:20161105T212105Z
DTSTART;TZID="Romance Standard Time":20161109T190000
LAST-MODIFIED:20161105T212105Z
LOCATION:Centre Gymnastique Oberkorn
ORGANIZER;CN="GRS Differdange":mailto:info@grs-differdange.lu
PRIORITY:5
SEQUENCE:0
SUMMARY;LANGUAGE=fr-lu:GRS Differdange - AGO 2016
TRANSP:OPAQUE
UID:040000008200E00074C5B7101A82E0080000000020F5CB88B237D201000000000000000
	0100000008AB4D22B5E298743A3CB086BE10BBF4D
X-ALT-DESC;FMTTYPE=text/html:<!DOCTYPE HTML PUBLIC "-//W3C//DTD HTML 3.2//E
	N">\n<HTML>\n<HEAD>\n<META NAME="Generator" CONTENT="MS Exchange Server ve
	rsion 14.02.5004.000">\n<TITLE></TITLE>\n</HEAD>\n<BODY>\n<!-- Converted f
	rom text/rtf format -->\n\n<P DIR=LTR><SPAN LANG="fr-lu"></SPAN></P>\n\n</
	BODY>\n</HTML>
X-MICROSOFT-CDO-BUSYSTATUS:TENTATIVE
X-MICROSOFT-CDO-IMPORTANCE:1
X-MICROSOFT-CDO-INTENDEDSTATUS:BUSY
X-MICROSOFT-DISALLOW-COUNTER:FALSE
X-MS-OLK-AUTOSTARTCHECK:FALSE
X-MS-OLK-CONFTYPE:0
BEGIN:VALARM
TRIGGER:-PT15M
ACTION:DISPLAY
DESCRIPTION:Reminder
END:VALARM
END:VEVENT
END:VCALENDAR

